BEGIN:VCALENDAR
PRODID:-//Cornell Cooperative Extension of Genesee County//NONSGML Cornell Cooperative Extension of Genesee County Events//EN
X-ORIGINAL-URL:
VERSION:2.0
CALSCALE:GREGORIAN
METHOD:PUBLISH
BEGIN:VEVENT
METHOD: PUBLISH
X-MS-OLK-FORCEINSPECTOROPEN:TRUE
DTSTART:20260604T121200
DTEND:20260604T130100
SUMMARY:Garden Talk &quot;Eat Your Weeds!&quot;
DTSTAMP:20110121T170000
LAST-MODIFIED:20260421T140202
CREATED:20260421T130104
SEQUENCE:0
TRANSP:TRANSPARENT
UID:32969
LOCATION:
URL:http://genesee.cce.cornell.edu/events/2026/06/04/garden-talk-eat-your-weeds
DESCRIPTION:Join Master Gardener Kris B. for an overview of foraging.  She will identify some common weeds that are edible.  Who knows what useful weeds might be growing right in your backyard.Register in advance for this meeting:Call 585-343-3040 ext. 101 to register to attend in-person.ORClick here to register for online: https://cornell.zoom.us/meeting/register/6MXnOUdoRpCyvThUJdUotQAfter registering, you will receive a confirmation email containing information about joining the meeting.This meeting will be recorded. Anyone who registers for the zoom meeting will get a link to the recording when it is available.This is a hybrid event – you can join online or in-person at the Genesee CCE office.
CLASS:PUBLIC
CATEGORIES:
STATUS:CONFIRMED
END:VEVENT
END:VCALENDAR
n/a